Workbook

Sheet RATES2
B1: AVERAGE RATES 1-10-2026 | C1: AVERAGE RATES 29-8-2005 | D1: Coefficient of Variation
A2: O/N | B2: =CALCULATIONS!B13 -> 5.85 | C2: 4.175 | D2: =CALCULATIONS!B18 -> 1.5190264
A3: ONE WEEK | B3: =CALCULATIONS!E13 -> 5.9083333 | C3: 4.3333 | D3: =CALCULATIONS!E18 -> 5.130803
A4: ONE MONTH | B4: =CALCULATIONS!H13 -> 6.1076667 | C4: 4.645 | D4: =CALCULATIONS!H18 -> 4.6776821
A5: THREE MONTHS | B5: =CALCULATIONS!K13 -> 6.5333333 | C5: 5.3167 | D5: =CALCULATIONS!K18 -> 15.904154
A6: SIX MONTHS | B6: =CALCULATIONS!N13 -> 6.875 | C6: 5.7667 | D6: =CALCULATIONS!N18 -> 13.657453
A7: ONE YEAR | B7: =CALCULATIONS!Q13 -> 7.233 | C7: 6.2833 | D7: =CALCULATIONS!Q18 -> 12.633064

Sheet  RATES1
B1: AVERAGE RATES 1-10 | C1: AVERAGE RATES 30-9 | D1: Coefficient of Variation
A2: O/N | B2: =CALCULATIONS!B13 -> 5.85 | C2: 5.85 | D2: =CALCULATIONS!B18 -> 1.5190264
A3: ONE WEEK | B3: =CALCULATIONS!E13 -> 5.9083333 | C3: 5.9083333 | D3: =CALCULATIONS!E18 -> 5.130803
A4: ONE MONTH | B4: =CALCULATIONS!H13 -> 6.1076667 | C4: 6.1076667 | D4: =CALCULATIONS!H18 -> 4.6776821
A5: THREE MONTHS | B5: =CALCULATIONS!K13 -> 6.5333333 | C5: 6.5333333 | D5: =CALCULATIONS!K18 -> 15.904154
A6: SIX MONTHS | B6: =CALCULATIONS!N13 -> 6.875 | C6: 6.875 | D6: =CALCULATIONS!N18 -> 13.657453
A7: ONE YEAR | B7: =CALCULATIONS!Q13 -> 7.233 | C7: 7.233 | D7: =CALCULATIONS!Q18 -> 12.633064

Sheet CHART1

Sheet CALCULATIONS
A1: PARTICIPANTS | B1: O/N RATE | D1: PARTICIPANTS | E1: ONE WEEK RATE | G1: PARTICIPANTS | H1: ONE MONTH RATE | J1: PARTICIPANTS | K1: THREE MONTHS RATE | M1: PARTICIPANTS | N1: SIX MONTHS RATE | P1: PARTICIPANTS | Q1: ONE YEAR
A2: ='SUMMARY OF RATES'!A3 -> ARAB BANK | B2: ='SUMMARY OF RATES'!B3 -> 5.85 | D2: ='SUMMARY OF RATES'!A9 -> BANK AL ETIHAD | E2: ='SUMMARY OF RATES'!C9 -> 6.25 | G2: ='SUMMARY OF RATES'!A9 -> BANK AL ETIHAD | H2: ='SUMMARY OF RATES'!D9 -> 6.75 | J2: ='SUMMARY OF RATES'!A6 -> JORDAN AHLI BANK | K2: ='SUMMARY OF RATES'!E6 -> 9.15 | M2: ='SUMMARY OF RATES'!A6 -> JORDAN AHLI BANK | N2: ='SUMMARY OF RATES'!F6 -> 8.548 | P2: ='SUMMARY OF RATES'!A9 -> BANK AL ETIHAD | Q2: ='SUMMARY OF RATES'!G9 -> 8.75
A3: ='SUMMARY OF RATES'!A4 -> The Housing Bank | B3: ='SUMMARY OF RATES'!B4 -> 5.85 | D3: ='SUMMARY OF RATES'!A8 -> BANK OF JORDAN | E3: ='SUMMARY OF RATES'!C8 -> 6 | G3: ='SUMMARY OF RATES'!A6 -> JORDAN AHLI BANK | H3: ='SUMMARY OF RATES'!D6 -> 6.246 | J3: ='SUMMARY OF RATES'!A9 -> BANK AL ETIHAD | K3: ='SUMMARY OF RATES'!E9 -> 7.65 | M3: ='SUMMARY OF RATES'!A9 -> BANK AL ETIHAD | N3: ='SUMMARY OF RATES'!F9 -> 8.4 | P3: ='SUMMARY OF RATES'!A6 -> JORDAN AHLI BANK | Q3: ='SUMMARY OF RATES'!G6 -> 8.748
A4: ='SUMMARY OF RATES'!A10 -> CAIRO AMMAN BANK | B4: ='SUMMARY OF RATES'!B10 -> 5.85 | D4: ='SUMMARY OF RATES'!A10 -> CAIRO AMMAN BANK | E4: ='SUMMARY OF RATES'!C10 -> 6 | G4: ='SUMMARY OF RATES'!A8 -> BANK OF JORDAN | H4: ='SUMMARY OF RATES'!D8 -> 6.2 | J4: ='SUMMARY OF RATES'!A5 -> JORDAN KUWAIT BANK | K4: ='SUMMARY OF RATES'!E5 -> 6.5 | M4: ='SUMMARY OF RATES'!A5 -> JORDAN KUWAIT BANK | N4: ='SUMMARY OF RATES'!F5 -> 7.1 | P4: ='SUMMARY OF RATES'!A7 -> CAPITAL BANK OF JORDAN | Q4: ='SUMMARY OF RATES'!G7 -> 7.35
A5: ='SUMMARY OF RATES'!A8 -> BANK OF JORDAN | B5: ='SUMMARY OF RATES'!B8 -> 5.85 | D5: ='SUMMARY OF RATES'!A5 -> JORDAN KUWAIT BANK | E5: ='SUMMARY OF RATES'!C5 -> 6 | G5: ='SUMMARY OF RATES'!A10 -> CAIRO AMMAN BANK | H5: ='SUMMARY OF RATES'!D10 -> 6.15 | J5: ='SUMMARY OF RATES'!A10 -> CAIRO AMMAN BANK | K5: ='SUMMARY OF RATES'!E10 -> 6.35 | M5: ='SUMMARY OF RATES'!A10 -> CAIRO AMMAN BANK | N5: ='SUMMARY OF RATES'!F10 -> 6.55 | P5: ='SUMMARY OF RATES'!A5 -> JORDAN KUWAIT BANK | Q5: ='SUMMARY OF RATES'!G5 -> 7.25
A6: ='SUMMARY OF RATES'!A5 -> JORDAN KUWAIT BANK | B6: ='SUMMARY OF RATES'!B5 -> 5.85 | D6: ='SUMMARY OF RATES'!A3 -> ARAB BANK | E6: ='SUMMARY OF RATES'!C3 -> 5.95 | G6: ='SUMMARY OF RATES'!A5 -> JORDAN KUWAIT BANK | H6: ='SUMMARY OF RATES'!D5 -> 6.15 | J6: ='SUMMARY OF RATES'!A8 -> BANK OF JORDAN | K6: ='SUMMARY OF RATES'!E8 -> 6.35 | M6: ='SUMMARY OF RATES'!A4 -> The Housing Bank | N6: ='SUMMARY OF RATES'!F4 -> 6.45 | P6: ='SUMMARY OF RATES'!A10 -> CAIRO AMMAN BANK | Q6: ='SUMMARY OF RATES'!G10 -> 6.75
A7: ='SUMMARY OF RATES'!A9 -> BANK AL ETIHAD | B7: ='SUMMARY OF RATES'!B9 -> 5.85 | D7: ='SUMMARY OF RATES'!A4 -> The Housing Bank | E7: ='SUMMARY OF RATES'!C4 -> 5.85 | G7: ='SUMMARY OF RATES'!A3 -> ARAB BANK | H7: ='SUMMARY OF RATES'!D3 -> 6 | J7: ='SUMMARY OF RATES'!A4 -> The Housing Bank | K7: ='SUMMARY OF RATES'!E4 -> 6.25 | M7: ='SUMMARY OF RATES'!A8 -> BANK OF JORDAN | N7: ='SUMMARY OF RATES'!F8 -> 6.45 | P7: ='SUMMARY OF RATES'!A4 -> The Housing Bank | Q7: ='SUMMARY OF RATES'!G4 -> 6.75
A8: ='SUMMARY OF RATES'!A6 -> JORDAN AHLI BANK | B8: ='SUMMARY OF RATES'!B6 -> 5.85 | D8: ='SUMMARY OF RATES'!A7 -> CAPITAL BANK OF JORDAN | E8: ='SUMMARY OF RATES'!C7 -> 5.65 | G8: ='SUMMARY OF RATES'!A4 -> The Housing Bank | H8: ='SUMMARY OF RATES'!D4 -> 5.9 | J8: ='SUMMARY OF RATES'!A3 -> ARAB BANK | K8: ='SUMMARY OF RATES'!E3 -> 6.1 | M8: ='SUMMARY OF RATES'!A3 -> ARAB BANK | N8: ='SUMMARY OF RATES'!F3 -> 6.3 | P8: ='SUMMARY OF RATES'!A8 -> BANK OF JORDAN | Q8: ='SUMMARY OF RATES'!G8 -> 6.55
A9: ='SUMMARY OF RATES'!A7 -> CAPITAL BANK OF JORDAN | B9: ='SUMMARY OF RATES'!B7 -> 5.6 | D9: ='SUMMARY OF RATES'!A6 -> JORDAN AHLI BANK | E9: ='SUMMARY OF RATES'!C6 -> 5.25 | G9: ='SUMMARY OF RATES'!A7 -> CAPITAL BANK OF JORDAN | H9: ='SUMMARY OF RATES'!D7 -> 5.8 | J9: ='SUMMARY OF RATES'!A7 -> CAPITAL BANK OF JORDAN | K9: ='SUMMARY OF RATES'!E7 -> 6 | M9: ='SUMMARY OF RATES'!A7 -> CAPITAL BANK OF JORDAN | N9: ='SUMMARY OF RATES'!F7 -> 6.15 | P9: ='SUMMARY OF RATES'!A3 -> ARAB BANK | Q9: ='SUMMARY OF RATES'!G3 -> 6.5
A13: AVERAGE PRICE FOR O/N RATE FOR 6 BANKS | B13: =AVERAGE(B3:B8) -> 5.85 | D13: AVERAGE PRICE FOR ONE WEEK RATE FOR 6 BANKS | E13: =AVERAGE(E3:E8) -> 5.9083333 | G13: AVERAGE PRICE FOR ONE MONTH RATE FOR 6 BANKS | H13: =AVERAGE(H3:H8) -> 6.1076667 | J13: AVERAGE PRICE FOR THREE MONTH RATE FOR 6 BANKS | K13: =AVERAGE(K3:K8) -> 6.5333333 | M13: AVERAGE PRICE FOR SIX MONTHS RATE FOR 6 BANKS | N13: =AVERAGE(N3:N8) -> 6.875 | P13: AVERAGE PRICE FOR ONE YEAR RATE FOR 6 BANKS | Q13: =AVERAGE(Q3:Q8) -> 7.233
A15: G.M | B15: =(B3*B4*B5*B6*B7*B8)^(1/6) -> 5.85 | E15: =(#REF!*E4*E5*E6*E7*E8)^(1/6) -> #REF! | H15: =(H4*H5*H6*#REF!*H7*H8)^(1/6) -> #REF! | K15: =(K4*#REF!*K5*K6*K7*K8)^(1/6) -> #REF! | N15: =(N3*N4*N5*N6*N7*N8)^(1/6) -> 6.8397436 | Q15: =(Q3*Q4*Q5*Q6*Q7*Q8)^(1/6) -> 7.1983091
A16: STDV | B16: =STDEV(B2:B9) -> 0.088388348 | E16: =STDEV(E2:E9) -> 0.301114 | H16: =STDEV(H2:H9) -> 0.28765406 | K16: =STDEV(K2:K9) -> 1.0804885 | N16: =STDEV(N2:N9) -> 0.95513395 | Q16: =STDEV(Q2:Q9) -> 0.92612989
A17: AVERAGE PRICE FOR O/N RATE | B17: =AVERAGE(B2:B9) -> 5.81875 | E17: =AVERAGE(E2:E9) -> 5.86875 | H17: =AVERAGE(H2:H9) -> 6.1495 | K17: =AVERAGE(K2:K9) -> 6.79375 | N17: =AVERAGE(N2:N9) -> 6.9935 | Q17: =AVERAGE(Q2:Q9) -> 7.331
A18: C.V | B18: =B16/B17*100 -> 1.5190264 | E18: =E16/E17*100 -> 5.130803 | H18: =H16/H17*100 -> 4.6776821 | K18: =K16/K17*100 -> 15.904154 | N18: =N16/N17*100 -> 13.657453 | Q18: =Q16/Q17*100 -> 12.633064

Sheet SUMMARY OF RATES AR
A1: ='SUMMARY OF RATES'!A1:G1 -> 46296
A2: البنوك المفوضة بالتسعير | B2: ليلة واحدة | C2: اسبوع | D2: شهر واحد | E2: ثلاثة أشهر | F2: ستة أشهر | G2: سنة واحدة
A3: البنك العربي | B3: ='SUMMARY OF RATES'!B3 -> 5.85 | C3: ='SUMMARY OF RATES'!C3 -> 5.95 | D3: ='SUMMARY OF RATES'!D3 -> 6 | E3: ='SUMMARY OF RATES'!E3 -> 6.1 | F3: ='SUMMARY OF RATES'!F3 -> 6.3 | G3: ='SUMMARY OF RATES'!G3 -> 6.5
A4: بنك الاسكان للتجارة والتمويل | B4: ='SUMMARY OF RATES'!B4 -> 5.85 | C4: ='SUMMARY OF RATES'!C4 -> 5.85 | D4: ='SUMMARY OF RATES'!D4 -> 5.9 | E4: ='SUMMARY OF RATES'!E4 -> 6.25 | F4: ='SUMMARY OF RATES'!F4 -> 6.45 | G4: ='SUMMARY OF RATES'!G4 -> 6.75
A5: البنك الأردني الكويتي | B5: ='SUMMARY OF RATES'!B5 -> 5.85 | C5: ='SUMMARY OF RATES'!C5 -> 6 | D5: ='SUMMARY OF RATES'!D5 -> 6.15 | E5: ='SUMMARY OF RATES'!E5 -> 6.5 | F5: ='SUMMARY OF RATES'!F5 -> 7.1 | G5: ='SUMMARY OF RATES'!G5 -> 7.25
A6: البنك الأهلي الأردني | B6: ='SUMMARY OF RATES'!B6 -> 5.85 | C6: ='SUMMARY OF RATES'!C6 -> 5.25 | D6: ='SUMMARY OF RATES'!D6 -> 6.246 | E6: ='SUMMARY OF RATES'!E6 -> 9.15 | F6: ='SUMMARY OF RATES'!F6 -> 8.548 | G6: ='SUMMARY OF RATES'!G6 -> 8.748
A7: بنك المال الأردني | B7: ='SUMMARY OF RATES'!B7 -> 5.6 | C7: ='SUMMARY OF RATES'!C7 -> 5.65 | D7: ='SUMMARY OF RATES'!D7 -> 5.8 | E7: ='SUMMARY OF RATES'!E7 -> 6 | F7: ='SUMMARY OF RATES'!F7 -> 6.15 | G7: ='SUMMARY OF RATES'!G7 -> 7.35
A8: بنك الأردن | B8: ='SUMMARY OF RATES'!B8 -> 5.85 | C8: ='SUMMARY OF RATES'!C8 -> 6 | D8: ='SUMMARY OF RATES'!D8 -> 6.2 | E8: ='SUMMARY OF RATES'!E8 -> 6.35 | F8: ='SUMMARY OF RATES'!F8 -> 6.45 | G8: ='SUMMARY OF RATES'!G8 -> 6.55
A9: بنك الإتحاد | B9: ='SUMMARY OF RATES'!B9 -> 5.85 | C9: ='SUMMARY OF RATES'!C9 -> 6.25 | D9: ='SUMMARY OF RATES'!D9 -> 6.75 | E9: ='SUMMARY OF RATES'!E9 -> 7.65 | F9: ='SUMMARY OF RATES'!F9 -> 8.4 | G9: ='SUMMARY OF RATES'!G9 -> 8.75
A10: بنك القاهرة عمان | B10: ='SUMMARY OF RATES'!B10 -> 5.85 | C10: ='SUMMARY OF RATES'!C10 -> 6 | D10: ='SUMMARY OF RATES'!D10 -> 6.15 | E10: ='SUMMARY OF RATES'!E10 -> 6.35 | F10: ='SUMMARY OF RATES'!F10 -> 6.55 | G10: ='SUMMARY OF RATES'!G10 -> 6.75
A12: معدل الفائدة % (الجوديبر) * | B12: =CALCULATIONS!B13 -> 5.85 | C12: =CALCULATIONS!E13 -> 5.9083333 | D12: =CALCULATIONS!H13 -> 6.1076667 | E12: =CALCULATIONS!K13 -> 6.5333333 | F12: =CALCULATIONS!N13 -> 6.875 | G12: =CALCULATIONS!Q13 -> 7.233
A13: معامل الاختلاف % | B13: =CALCULATIONS!B18 -> 1.5190264 | C13: =CALCULATIONS!E18 -> 5.130803 | D13: =CALCULATIONS!H18 -> 4.6776821 | E13: =CALCULATIONS!K18 -> 15.904154 | F13: =CALCULATIONS!N18 -> 13.657453 | G13: =CALCULATIONS!Q18 -> 12.633064
B15: ادنى اسعار | D15: اعلى اسعار
A17: * | B17: يحتسب المعدل (الوسط الحسابي البسيط) بعد استثناء أعلى سعر وأدنى سعر
A19: Email: abjit@abj.org.jo
A33: أول اعلى اسعار = | B33: =CELL("contents",CALCULATIONS!$B$2) -> 5.85 | C33: =CELL("contents",CALCULATIONS!$E$2) -> 6.25 | D33: =CELL("contents",CALCULATIONS!$H$2) -> 6.75 | E33: =CELL("contents",CALCULATIONS!$K$2) -> 9.15 | F33: =CELL("contents",CALCULATIONS!N2) -> 8.548 | G33: =CELL("contents",CALCULATIONS!Q2) -> 8.75
A36: اول ادنى اسعار = | B36: =CELL("contents",CALCULATIONS!$B$8) -> 5.85 | C36: =CELL("contents",CALCULATIONS!$E$8) -> 5.65 | D36: =CELL("contents",CALCULATIONS!$H$8) -> 5.9 | E36: =CELL("contents",CALCULATIONS!$K$9) -> 6 | F36: =CELL("contents",CALCULATIONS!$N$8) -> 6.3 | G36: =CELL("contents",CALCULATIONS!$Q$8) -> 6.55

Sheet SUMMARY OF RATES
A1: 46296
A2: PARTICIPANTS | B2: O/N | C2: ONE WEEK | D2: ONE MONTH | E2: THREE MONTHS | F2: SIX MONTHS | G2: ONE YEAR
A3: ARAB BANK | B3: 5.85 | C3: 5.95 | D3: 6 | E3: 6.1 | F3: 6.3 | G3: 6.5
A4: The Housing Bank | B4: 5.85 | C4: 5.85 | D4: 5.9 | E4: 6.25 | F4: 6.45 | G4: 6.75
A5: JORDAN KUWAIT BANK | B5: 5.85 | C5: 6 | D5: 6.15 | E5: 6.5 | F5: 7.1 | G5: 7.25
A6: JORDAN AHLI BANK | B6: 5.85 | C6: 5.25 | D6: 6.246 | E6: 9.15 | F6: 8.548 | G6: 8.748
A7: CAPITAL BANK OF JORDAN | B7: 5.6 | C7: 5.65 | D7: 5.8 | E7: 6 | F7: 6.15 | G7: 7.35
A8: BANK OF JORDAN | B8: 5.85 | C8: 6 | D8: 6.2 | E8: 6.35 | F8: 6.45 | G8: 6.55
A9: BANK AL ETIHAD | B9: 5.85 | C9: 6.25 | D9: 6.75 | E9: 7.65 | F9: 8.4 | G9: 8.75
A10: CAIRO AMMAN BANK | B10: 5.85 | C10: 6 | D10: 6.15 | E10: 6.35 | F10: 6.55 | G10: 6.75
A13: AVERAGE RATES % (JODIBOR) * | B13: =CALCULATIONS!B13 -> 5.85 | C13: =CALCULATIONS!E13 -> 5.9083333 | D13: =CALCULATIONS!H13 -> 6.1076667 | E13: =CALCULATIONS!K13 -> 6.5333333 | F13: =CALCULATIONS!N13 -> 6.875 | G13: =CALCULATIONS!Q13 -> 7.233
A14: Coefficient of Variation % | B14: =CALCULATIONS!B18 -> 1.5190264 | C14: =CALCULATIONS!E18 -> 5.130803 | D14: =CALCULATIONS!H18 -> 4.6776821 | E14: =CALCULATIONS!K18 -> 15.904154 | F14: =CALCULATIONS!N18 -> 13.657453 | G14: =CALCULATIONS!Q18 -> 12.633064
B16: Lowest Rates | D16: Highest Rates
A18: * AVERAGE RATE EXCLUDING THE HIGHEST AND LOWEST INTEREST RATES
A20: Email: abjit@abj.org.jo
A33: First Highest Rates = | B33: =CALCULATIONS!B2 -> 5.85 | C33: =CALCULATIONS!E2 -> 6.25 | D33: =CALCULATIONS!H2 -> 6.75 | E33: =CELL("contents",CALCULATIONS!$K$2) -> 9.15 | F33: =CALCULATIONS!N2 -> 8.548 | G33: =CALCULATIONS!Q2 -> 8.75
A36: First Lowest Rates = | B36: =CELL("contents",CALCULATIONS!$B$9) -> 5.6 | C36: =CELL("contents",CALCULATIONS!$E$9) -> 5.25 | D36: =CELL("contents",CALCULATIONS!$H$9) -> 5.8 | E36: =CELL("contents",CALCULATIONS!$K$9) -> 6 | F36: =CELL("contents",CALCULATIONS!$N$9) -> 6.15 | G36: =CELL("contents",CALCULATIONS!$Q$9) -> 6.5
